BEGIN:VCALENDAR
VERSION:2.0
PRODID:-//FitPunt Hengelo - ECPv6.3.6//NONSGML v1.0//EN
CALSCALE:GREGORIAN
METHOD:PUBLISH
X-WR-CALNAME:FitPunt Hengelo
X-ORIGINAL-URL:https://fit-punt.nl
X-WR-CALDESC:Evenementen voor FitPunt Hengelo
REFRESH-INTERVAL;VALUE=DURATION:PT1H
X-Robots-Tag:noindex
X-PUBLISHED-TTL:PT1H
BEGIN:VTIMEZONE
TZID:Europe/Amsterdam
BEGIN:DAYLIGHT
TZOFFSETFROM:+0100
TZOFFSETTO:+0200
TZNAME:CEST
DTSTART:20260329T010000
END:DAYLIGHT
BEGIN:STANDARD
TZOFFSETFROM:+0200
TZOFFSETTO:+0100
TZNAME:CET
DTSTART:20261025T010000
END:STANDARD
END:VTIMEZONE
BEGIN:VEVENT
DTSTART;TZID=Europe/Amsterdam:20260517T113000
DTEND;TZID=Europe/Amsterdam:20260517T130000
DTSTAMP:20260424T061159
CREATED:20250928T192634Z
LAST-MODIFIED:20260219T113311Z
UID:22545-1779017400-1779022800@fit-punt.nl
SUMMARY:Ashtanga Yoga
DESCRIPTION:Zondag 17 mei 2026 | 11.30u – 13.00u\nDeze lessen zijn voor iedereen (leden en niet-leden) te volgen! \nVoor Gevorderden die hun Yogapraktijk Willen Verdiepen\nAshtanga yoga is een intensieve en dynamische yogavorm\, die bekendstaat als de voorloper van Power yoga. Bij Fitpunt bieden we af en toe speciale lessen waarin we ons richten op the primary series\, de eerste en belangrijkste reeks. Deze lessen zijn geschikt voor gevorderde beoefenaars die hun kracht\, flexibiliteit en focus willen verbeteren. \nRegelmatige beoefening van Ashtanga yoga versterkt niet alleen je lichaam\, maar biedt ook diepe mentale helderheid. Wil je je yoga-ervaring naar een hoger niveau tillen? Dan is deze masterclass perfect voor jou! \nSchrijf je vandaag nog in en daag jezelf uit met Ashtanga Yoga!\nKlik op deze link.\nDeze lessen zijn GRATIS te volgen voor leden van Fitpunt. Meld je aan bij de balie\, middels de uitgedeelde flyers of gebruik de afspraaklink die je per e-mail ontvangt. \nInteresse in Yoga en nog geen lid? Kijk op deze pagina en meld je aan voor een proefles.
URL:https://fit-punt.nl/event/ashtanga-yoga-17mei26/
LOCATION:Fitpunt Hengelo\, PC Hooftlaan 50\, Hengelo (ov)\, Overijssel\, 7552 HG\, Nederland
CATEGORIES:Evenementen Kalender
ATTACH;FMTTYPE=image/jpeg:https://fit-punt.nl/wp-content/uploads/2025/09/Thumb-Ashtanga-Yoga4.jpg
END:VEVENT
END:VCALENDAR