BEGIN:VCALENDAR
VERSION:2.0
PRODID:-//FitPunt Hengelo - ECPv6.3.6//NONSGML v1.0//EN
CALSCALE:GREGORIAN
METHOD:PUBLISH
X-ORIGINAL-URL:https://fit-punt.nl
X-WR-CALDESC:Evenementen voor FitPunt Hengelo
REFRESH-INTERVAL;VALUE=DURATION:PT1H
X-Robots-Tag:noindex
X-PUBLISHED-TTL:PT1H
BEGIN:VTIMEZONE
TZID:Europe/Amsterdam
BEGIN:DAYLIGHT
TZOFFSETFROM:+0100
TZOFFSETTO:+0200
TZNAME:CEST
DTSTART:20260329T010000
END:DAYLIGHT
BEGIN:STANDARD
TZOFFSETFROM:+0200
TZOFFSETTO:+0100
TZNAME:CET
DTSTART:20261025T010000
END:STANDARD
END:VTIMEZONE
BEGIN:VEVENT
DTSTART;TZID=Europe/Amsterdam:20260513T173000
DTEND;TZID=Europe/Amsterdam:20260513T213000
DTSTAMP:20260423T180257
CREATED:20260416T091248Z
LAST-MODIFIED:20260416T091400Z
UID:25109-1778693400-1778707800@fit-punt.nl
SUMMARY:Fitpunt Fit-Contest 2.0
DESCRIPTION:🎯 Fitpunt Fit-Contest 2.0 – Challenge yourself!\n📅 woensdag 13 mei 2026🕙 4 sessies | elk 60 minuten \nBen jij klaar om jezelf écht uit te dagen? 💪Tijdens de Fitpunt Fit-Contest 2.0 draait alles om kracht\, uithoudingsvermogen en doorzettingsvermogen in een uitdagende team- en individuele setting. \n🔥 “It’s not about being the best. It’s about being better than yesterday.” \nIn deze unieke fitness challenge ga je individueel aan de slag met een vaste reeks oefeningen die je zo vaak mogelijk uitvoert binnen een bepaalde tijd. Het doel is simpel: blijf bewegen\, blijf gaan en haal alles uit jezelf wat erin zit. \nTussendoor zijn er korte herstelmomenten\, maar daarna ga je weer direct verder. Het tempo ligt hoog en daagt je uit om zowel fysiek als mentaal scherp te blijven. \n🏆 Wie weet de meeste rondes te voltooien en houdt het vol tot het einde?Aan het eind van elke sessie is er een winnaar die met een mooie prijs naar huis gaat! \nOf je nu komt om jezelf te testen\, sterker te worden of gewoon voor de energie van samen sporten — dit is jouw moment om te laten zien wat je kunt. \n⚡ Durf jij de uitdaging aan?📲 Meld je aan via de CompedFit App \n💥 Fitpunt Fit-Contest 2.0 – push your limits & surprise yourself
URL:https://fit-punt.nl/event/fitpunt-fit-contest-2-0/
LOCATION:Fitpunt Hengelo\, PC Hooftlaan 50\, Hengelo (ov)\, Overijssel\, 7552 HG\, Nederland
CATEGORIES:Fitness
ATTACH;FMTTYPE=image/jpeg:https://fit-punt.nl/wp-content/uploads/2026/04/Thumbnail-Fitpunt-Fit-contest-2.0.jpg
END:VEVENT
BEGIN:VEVENT
DTSTART;TZID=Europe/Amsterdam:20260523T100000
DTEND;TZID=Europe/Amsterdam:20260523T110000
DTSTAMP:20260423T180257
CREATED:20251104T152707Z
LAST-MODIFIED:20251105T155443Z
UID:22856-1779530400-1779534000@fit-punt.nl
SUMMARY:Pop Pump
DESCRIPTION:🎉 Pop Pump – Move\, Shine & Feel the Beat!\n📅 Zaterdag 23 mei 2026🕙 10:00 – 11:00 uur \nReady to dance\, lift en shine? ✨Tijdens deze speciale editie van Body Pump trainen we op de beats van de grootste popdiva’s – o.a. Dua Lipa\, Lady Gaga en Meghan Trainor. Verwacht power\, fun en véél feelgood-vibes! \n💃 “I got that boom boom that all the boys chase” – en jij hebt die halterstang vast!Laat je meevoeren door Levitating\, Born This Way en Made You Look\, terwijl je elke rep vol energie uitvoert. \nOf je nu komt voor de beat\, de spieren of het plezier — deze les laat je knallen met een glimlach.🎵 “Baby\, you were born this way – strong\, confident & unstoppable!” \n✅ Gratis voor leden van Fitpunt📲 Meld je aan via de CompedFit App \n💖 Get your pop power on – en pump mee met de hits!
URL:https://fit-punt.nl/event/pop-pump/
LOCATION:Fitpunt Hengelo\, PC Hooftlaan 50\, Hengelo (ov)\, Overijssel\, 7552 HG\, Nederland
CATEGORIES:Evenementen Kalender
ATTACH;FMTTYPE=image/jpeg:https://fit-punt.nl/wp-content/uploads/2025/11/Thumb-Pop-Pump.jpg
END:VEVENT
BEGIN:VEVENT
DTSTART;TZID=Europe/Amsterdam:20260606T110000
DTEND;TZID=Europe/Amsterdam:20260606T114500
DTSTAMP:20260423T180257
CREATED:20251030T180508Z
LAST-MODIFIED:20251030T180639Z
UID:22821-1780743600-1780746300@fit-punt.nl
SUMMARY:Pump Techniek
DESCRIPTION:Zaterdag 6 juni 2026 | 11:00u – 11:45u \nWil jij je techniek in Body Pump naar een hoger niveau tillen? Doe mee aan onze interactieve workshop! Onder deskundige begeleiding leer je de juiste vorm en techniek van de verschillende oefeningen\, zodat je het meeste uit je training haalt. Of je nu een beginner bent of al ervaring hebt\, deze workshop biedt waardevolle tips en hands-on oefeningen die je helpen om sterker\, efficiënter en veiliger te trainen. Meld je snel aan en geef je Body Pump sessies een boost! \nDeze workshop is GRATIS te volgen voor leden van Fitpunt. Meld je aan bij de balie\, middels de uitgedeelde flyers of gebruik de afspraaklink die je per e-mail ontvangt. \nInteresse in Body Pump en nog geen lid? Kijk op deze pagina en meld je aan voor een proefles.
URL:https://fit-punt.nl/event/pump-techniek-6juni26/
LOCATION:Fitpunt Hengelo\, PC Hooftlaan 50\, Hengelo (ov)\, Overijssel\, 7552 HG\, Nederland
CATEGORIES:Evenementen Kalender
ATTACH;FMTTYPE=image/jpeg:https://fit-punt.nl/wp-content/uploads/2025/10/Thumb-Pump-techniek.jpg
END:VEVENT
END:VCALENDAR