BEGIN:VCALENDAR
VERSION:2.0
PRODID:-//FitPunt Hengelo - ECPv6.3.6//NONSGML v1.0//EN
CALSCALE:GREGORIAN
METHOD:PUBLISH
X-ORIGINAL-URL:https://fit-punt.nl
X-WR-CALDESC:Evenementen voor FitPunt Hengelo
REFRESH-INTERVAL;VALUE=DURATION:PT1H
X-Robots-Tag:noindex
X-PUBLISHED-TTL:PT1H
BEGIN:VTIMEZONE
TZID:Europe/Amsterdam
BEGIN:DAYLIGHT
TZOFFSETFROM:+0100
TZOFFSETTO:+0200
TZNAME:CEST
DTSTART:20260329T010000
END:DAYLIGHT
BEGIN:STANDARD
TZOFFSETFROM:+0200
TZOFFSETTO:+0100
TZNAME:CET
DTSTART:20261025T010000
END:STANDARD
END:VTIMEZONE
BEGIN:VEVENT
DTSTART;TZID=Europe/Amsterdam:20260328T110000
DTEND;TZID=Europe/Amsterdam:20260328T114500
DTSTAMP:20260423T180527
CREATED:20251030T180246Z
LAST-MODIFIED:20260312T131509Z
UID:22818-1774695600-1774698300@fit-punt.nl
SUMMARY:Pump Techniek
DESCRIPTION:Zaterdag 28 maart 2026 | 11:00u – 11:45u \nWil jij je techniek in Body Pump naar een hoger niveau tillen? Doe mee aan onze interactieve workshop! Onder deskundige begeleiding leer je de juiste vorm en techniek van de verschillende oefeningen\, zodat je het meeste uit je training haalt. Of je nu een beginner bent of al ervaring hebt\, deze workshop biedt waardevolle tips en hands-on oefeningen die je helpen om sterker\, efficiënter en veiliger te trainen. Meld je snel aan en geef je Body Pump sessies een boost! \nDeze workshop is GRATIS te volgen voor leden van Fitpunt. Meld je aan bij de balie\, middels de uitgedeelde flyers of gebruik de afspraaklink die je per e-mail ontvangt. \nInteresse in Body Pump en nog geen lid? Kijk op deze pagina en meld je aan voor een proefles.
URL:https://fit-punt.nl/event/pump-techniek-21mrt26/
LOCATION:Fitpunt Hengelo\, PC Hooftlaan 50\, Hengelo (ov)\, Overijssel\, 7552 HG\, Nederland
CATEGORIES:Evenementen Kalender
ATTACH;FMTTYPE=image/jpeg:https://fit-punt.nl/wp-content/uploads/2025/10/Thumb-Pump-techniek.jpg
END:VEVENT
END:VCALENDAR