BEGIN:VCALENDAR
VERSION:2.0
PRODID:-//FitPunt Hengelo - ECPv6.3.6//NONSGML v1.0//EN
CALSCALE:GREGORIAN
METHOD:PUBLISH
X-ORIGINAL-URL:https://fit-punt.nl
X-WR-CALDESC:Evenementen voor FitPunt Hengelo
REFRESH-INTERVAL;VALUE=DURATION:PT1H
X-Robots-Tag:noindex
X-PUBLISHED-TTL:PT1H
BEGIN:VTIMEZONE
TZID:Europe/Amsterdam
BEGIN:DAYLIGHT
TZOFFSETFROM:+0100
TZOFFSETTO:+0200
TZNAME:CEST
DTSTART:20260329T010000
END:DAYLIGHT
BEGIN:STANDARD
TZOFFSETFROM:+0200
TZOFFSETTO:+0100
TZNAME:CET
DTSTART:20261025T010000
END:STANDARD
END:VTIMEZONE
BEGIN:VEVENT
DTSTART;TZID=Europe/Amsterdam:20260416T184500
DTEND;TZID=Europe/Amsterdam:20260416T194500
DTSTAMP:20260424T100611
CREATED:20250928T202648Z
LAST-MODIFIED:20250928T202648Z
UID:22582-1776365100-1776368700@fit-punt.nl
SUMMARY:Fitness Workshop Roeien
DESCRIPTION:Donderdag 16 april 2026 | 18:45u – 19:45u\nDe fitness workshops van Fitpunt zijn interactieve workshops\, dus kom in sportkleding! \nDe roeiapparaten worden veel gebruikt\, maar wist je dat roeien zijn eigen techniek kent. Door het toepassen van de juiste techniek\, haal je nog veel meer uit deze fantastische beweging. Tijdens de workshop krijg je deze techniek aangeleerd onder begeleiding van ervaren roeiers! \nBij Fitpunt is er altijd goede begeleiding middels onze Routekaart\, maar we gaan een stap verder. Middels workshops als deze krijg je als sporter extra kennis aangereikt\, om nog effectiever en veiliger te trainen. Samen werken aan je gezondheid! \nDeze workshop is GRATIS te volgen voor leden van Fitpunt. Meld je aan bij de balie\, middels de uitgedeelde flyers of gebruik de afspraaklink die je per e-mail ontvangt. \nInteresse in Fitness en nog geen lid? Meld je aan voor een proefles.
URL:https://fit-punt.nl/event/fitness-workshop-roeien-16apr26/
LOCATION:Fitpunt Hengelo\, PC Hooftlaan 50\, Hengelo (ov)\, Overijssel\, 7552 HG\, Nederland
CATEGORIES:Evenementen Kalender
ATTACH;FMTTYPE=image/jpeg:https://fit-punt.nl/wp-content/uploads/2025/09/Thumb-Roeien.jpg
END:VEVENT
BEGIN:VEVENT
DTSTART;TZID=Europe/Amsterdam:20260329T093000
DTEND;TZID=Europe/Amsterdam:20260329T104000
DTSTAMP:20260424T100611
CREATED:20250928T195233Z
LAST-MODIFIED:20250928T195233Z
UID:22565-1774776600-1774780800@fit-punt.nl
SUMMARY:Spinning 70min
DESCRIPTION:Trap je maand uit met power!\nElke laatste zondag van de maand (van september t/m mei) pakken we bij Fitpunt extra uit met een speciale spinningles van 70 minuten! \nGeen gewone rit\, maar een motiverende indoor ride vol energie\, afwisseling en doorzettingsvermogen. Met opzwepende muziek\, inspirerende begeleiding en een flinke dosis groepsgevoel knallen we samen door heuvels\, sprints en klimmetjes. \nOf je nu komt voor de uitdaging\, het plezier of gewoon een mega calorieverbrander:Spinning Zondag is jouw moment om te vlammen! \n🕒 Elke laatste zondag van de maand⏱️ Duur: 70 minuten📍 Locatie: Fitpunt Hengelo💪 Voor leden \n⚠️ Let op: beperkt aantal fietsen – reserveer op tijd! \nDeze lessen zijn GRATIS te volgen voor leden van Fitpunt. Meld je aan via de CompedFit App. \nInteresse in Spinning/RPM en nog geen lid? Kijk op deze pagina en meld je aan voor een proefles.
URL:https://fit-punt.nl/event/spinning-70min-29mrt26/
LOCATION:Fitpunt Hengelo\, PC Hooftlaan 50\, Hengelo (ov)\, Overijssel\, 7552 HG\, Nederland
CATEGORIES:Spinning
ATTACH;FMTTYPE=image/jpeg:https://fit-punt.nl/wp-content/uploads/2025/09/Thumb-Spinning-70min-1.jpg
END:VEVENT
END:VCALENDAR