BEGIN:VCALENDAR
VERSION:2.0
PRODID:-//FitPunt Hengelo - ECPv6.3.6//NONSGML v1.0//EN
CALSCALE:GREGORIAN
METHOD:PUBLISH
X-ORIGINAL-URL:https://fit-punt.nl
X-WR-CALDESC:Evenementen voor FitPunt Hengelo
REFRESH-INTERVAL;VALUE=DURATION:PT1H
X-Robots-Tag:noindex
X-PUBLISHED-TTL:PT1H
BEGIN:VTIMEZONE
TZID:Europe/Amsterdam
BEGIN:DAYLIGHT
TZOFFSETFROM:+0100
TZOFFSETTO:+0200
TZNAME:CEST
DTSTART:20260329T010000
END:DAYLIGHT
BEGIN:STANDARD
TZOFFSETFROM:+0200
TZOFFSETTO:+0100
TZNAME:CET
DTSTART:20261025T010000
END:STANDARD
END:VTIMEZONE
BEGIN:VEVENT
DTSTART;TZID=Europe/Amsterdam:20260510T100000
DTEND;TZID=Europe/Amsterdam:20260510T121500
DTSTAMP:20260424T100243
CREATED:20260416T121551Z
LAST-MODIFIED:20260416T124853Z
UID:25115-1778407200-1778415300@fit-punt.nl
SUMMARY:Spinning marathon voor KIKA
DESCRIPTION:Mijn naam is Dave Haagsma en samen met onze klas van de Johan Cruijff Academy gaan wij de Alpe d’HuZes fietsen om geld op te halen voor KiKa. \nOm dit mooie doel te steunen\, organiseren wij een Spinning Marathon op zondag 10 mei bij Fitpunt. De lessen duren één uur en na afloop staat er koffie\, thee en iets lekkers voor jullie klaar. Daarnaast ontvang je een mooie bidon van ons project. ☕ \nDeelname kost €20\,-\, en dit bedrag gaat volledig naar het goede doel. 💙 \nWil je meedoen? Meld je vast aan via:\nhttps://fit-punt.nl/spinning-marathon/ \nSamen maken we het verschil! 🙌\n           
URL:https://fit-punt.nl/event/spinning-marathon-voor-kika/
LOCATION:Fitpunt Hengelo\, PC Hooftlaan 50\, Hengelo (ov)\, Overijssel\, 7552 HG\, Nederland
CATEGORIES:Spinning
ATTACH;FMTTYPE=image/jpeg:https://fit-punt.nl/wp-content/uploads/2026/04/Thumbnails-Spinning-marathon-10-5-26.jpg
END:VEVENT
END:VCALENDAR