BEGIN:VCALENDAR
VERSION:2.0
PRODID:-//FitPunt Hengelo - ECPv6.3.6//NONSGML v1.0//EN
CALSCALE:GREGORIAN
METHOD:PUBLISH
X-ORIGINAL-URL:https://fit-punt.nl
X-WR-CALDESC:Evenementen voor FitPunt Hengelo
REFRESH-INTERVAL;VALUE=DURATION:PT1H
X-Robots-Tag:noindex
X-PUBLISHED-TTL:PT1H
BEGIN:VTIMEZONE
TZID:Europe/Amsterdam
BEGIN:DAYLIGHT
TZOFFSETFROM:+0100
TZOFFSETTO:+0200
TZNAME:CEST
DTSTART:20260329T010000
END:DAYLIGHT
BEGIN:STANDARD
TZOFFSETFROM:+0200
TZOFFSETTO:+0100
TZNAME:CET
DTSTART:20261025T010000
END:STANDARD
END:VTIMEZONE
BEGIN:VEVENT
DTSTART;TZID=Europe/Amsterdam:20260509T120000
DTEND;TZID=Europe/Amsterdam:20260509T170000
DTSTAMP:20260426T052106
CREATED:20260424T180021Z
LAST-MODIFIED:20260424T180021Z
UID:25189-1778328000-1778346000@fit-punt.nl
SUMMARY:HYROX wedstrijd
DESCRIPTION:HYROX Event bij Fitpunt – Zaterdag 9 mei\nOp zaterdag 9 mei staat Fitpunt in het teken van knallen tijdens een uitdagend HYROX-event! Dit evenement wordt georganiseerd door stagiaire Jesse Steghuis in het kader van zijn eindexamenopdracht. \nVerwacht een intensieve\, functionele workout waarin kracht\, uithoudingsvermogen en doorzettingsvermogen samenkomen. Dit is jouw kans om jezelf te testen\, grenzen te verleggen en alles te geven. Of je nu ervaren bent of gewoon zin hebt in een stevige challenge: je bent welkom. \n🕒 Tijd: 12:00 – 17:00 uur📍 Locatie: Fitpunt \nHoe werkt het?Je start in een tijdslot. Elke 8 minuten gaat er een nieuwe deelnemer of groep van start. Zo kun jij vol gas gaan en haal je het maximale uit je race. \n. \nDeelnamekostenLeden: € 10\,-\nNiet-leden: € 20\,- \nAanmeldenLeden van Fitpunt kunnen zich inschrijven bij de balie en daar direct een gewenst tijdslot kiezen.\nNiet-leden kunnen zich aanmelden via telefoon of e-mail. \n📞 Telefoon: 074 – 242 12 10✉️ E-mail: info@fit-punt.nl \n. \nGa jij de uitdaging aan? 💥Schrijf je in en laat zien wat je in huis hebt.
URL:https://fit-punt.nl/event/hyrox-wedstrijd-9mei26/
LOCATION:Fitpunt Hengelo\, PC Hooftlaan 50\, Hengelo (ov)\, Overijssel\, 7552 HG\, Nederland
CATEGORIES:HYROX
ATTACH;FMTTYPE=image/jpeg:https://fit-punt.nl/wp-content/uploads/2026/04/Thumbnails-HYROX-wedstrijd-9mei26.jpg
END:VEVENT
END:VCALENDAR