BEGIN:VCALENDAR
VERSION:2.0
PRODID:-//FitPunt Hengelo - ECPv6.3.6//NONSGML v1.0//EN
CALSCALE:GREGORIAN
METHOD:PUBLISH
X-ORIGINAL-URL:https://fit-punt.nl
X-WR-CALDESC:Evenementen voor FitPunt Hengelo
REFRESH-INTERVAL;VALUE=DURATION:PT1H
X-Robots-Tag:noindex
X-PUBLISHED-TTL:PT1H
BEGIN:VTIMEZONE
TZID:Europe/Amsterdam
BEGIN:DAYLIGHT
TZOFFSETFROM:+0100
TZOFFSETTO:+0200
TZNAME:CEST
DTSTART:20260329T010000
END:DAYLIGHT
BEGIN:STANDARD
TZOFFSETFROM:+0200
TZOFFSETTO:+0100
TZNAME:CET
DTSTART:20261025T010000
END:STANDARD
END:VTIMEZONE
BEGIN:VEVENT
DTSTART;TZID=Europe/Amsterdam:20260607T130000
DTEND;TZID=Europe/Amsterdam:20260607T141500
DTSTAMP:20260424T181705
CREATED:20260202T112826Z
LAST-MODIFIED:20260202T112826Z
UID:23329-1780837200-1780841700@fit-punt.nl
SUMMARY:Yoga Techniek
DESCRIPTION:Zondag 7 juni 2026 | 13.00u – 14.15u\nWil jij je yogatechniek verdiepen en met meer aandacht bewegen? Tijdens deze workshop nemen we de tijd om te werken aan de juiste houding\, uitlijning en ademhaling binnen verschillende yogahoudingen. Onder deskundige begeleiding krijg je inzicht in hoe je houdingen veilig\, stabiel en ontspannen kunt uitvoeren\, afgestemd op jouw lichaam. \nOf je nu net begint met yoga of al langer beoefent: deze workshop biedt praktische tips en bewuste oefeningen die je helpen om met meer rust\, controle en vertrouwen te bewegen. Zo haal je meer verdieping en balans uit je yogasessies. \n✅ Gratis voor leden van Fitpunt\nMeld je aan bij de balie\, middels de uitgedeelde flyers of gebruik de afspraaklink die je per e-mail ontvangt. \nInteresse ons Body & Mind-programma en nog geen lid? Kijk op deze pagina en meld je aan voor een proefles.
URL:https://fit-punt.nl/event/yoga-techniek-7juni26/
LOCATION:Fitpunt Hengelo\, PC Hooftlaan 50\, Hengelo (ov)\, Overijssel\, 7552 HG\, Nederland
CATEGORIES:Evenementen Kalender
ATTACH;FMTTYPE=image/jpeg:https://fit-punt.nl/wp-content/uploads/2026/02/Thumb-Yoga-Techniek.jpg
END:VEVENT
BEGIN:VEVENT
DTSTART;TZID=Europe/Amsterdam:20260618T173000
DTEND;TZID=Europe/Amsterdam:20260618T173000
DTSTAMP:20260424T181705
CREATED:20260403T170817Z
LAST-MODIFIED:20260418T055451Z
UID:24770-1781803800-1781803800@fit-punt.nl
SUMMARY:Rouw en Verlies
DESCRIPTION:Donderdag 18 juni 2026 | 17.30u – 18.30u \nRouw is geen teken van zwakte\, maar van liefde die een plek zoekt.\nVerlies\, verdriet en rouw: hoe zit dat eigenlijk? Naast vreugde en geluk maken we in ons leven ook verlies\, verdriet en rouw mee. Wat gebeurt er dan in je hoofd en hoe reageert je lijf? Een workshop waarbij bewustwording en aandacht centraal staat. \nLaat je meenemen door Marlies Laan van Fysiotherapie Kompas en ontdek hoe je beter om kunt gaan met verlies en verandering. \n\n📅 Datum: Donderdag 18 juni 2026🕗 Tijd: 17:30 – 18:30 uur📍 Locatie: Sportcentrum Fitpunt \n\nLet op: Er is een beperkt aantal plekken beschikbaar!Meld je snel aan en werk actief aan je gezondheid 💪 \nInteresse in sporten bij Fitpunt en nog geen lid? Meld je aan voor een proefles. \n{ Deze masterclass is GRATIS te volgen voor leden van Fitpunt. Meld je aan bij de balie gebruik de afspraaklink die je per e-mail ontvangt. }
URL:https://fit-punt.nl/event/rouw-verlies-18jun26/
LOCATION:Fitpunt Hengelo\, PC Hooftlaan 50\, Hengelo (ov)\, Overijssel\, 7552 HG\, Nederland
CATEGORIES:Evenementen Kalender
ATTACH;FMTTYPE=image/jpeg:https://fit-punt.nl/wp-content/uploads/2026/04/Thumb-Kompas-Rouw-en-Verlies.jpg
ORGANIZER;CN="Fysiotherapie Kompas":MAILTO:info@fysiotherapiekompas.nl
END:VEVENT
END:VCALENDAR